BEGIN:VCALENDAR
VERSION:2.0
PRODID:-//ExpressionEngine Easy iCalendar plugin//NONSGML v1.1.1//EN
BEGIN:VEVENT
UID:event
LOCATION:Schermerhorn Hall\, Room 501
DTSTAMP:20210221T33500Z
DTSTART;TZID=America/New_York:20090209T200000
DTEND;TZID=America/New_York:
SUMMARY:A Poetry Reading by Paul Muldoon\, followed by Interview cond
 ucted by CÃ³ilÃ­n Parsons
DESCRIPTION:Pulitzer Prize-winning poet Paul Muldoon will read selected 
 poems\, to be followed by a discussion with Columbia's CÃ³ilÃ
 ­n Parsons.
END:VEVENT
END:VCALENDAR