BEGIN:VCALENDAR
VERSION:2.0
PRODID:-//ExpressionEngine Easy iCalendar plugin//NONSGML v1.1.1//EN
BEGIN:VEVENT
UID:event
LOCATION:The Heyman Center\, Second Floor Common Room
DTSTAMP:20210221T33400Z
DTSTART;TZID=America/New_York:20090219T181500
DTEND;TZID=America/New_York:
SUMMARY:You Must Change Your Life
DESCRIPTION:Controversial German philosopher Peter Sloterdijk will give 
 a talk entitled "You Must Change Your Life."
END:VEVENT
END:VCALENDAR