BEGIN:VCALENDAR
VERSION:2.0
PRODID:-//ExpressionEngine Easy iCalendar plugin//NONSGML v1.1.1//EN
BEGIN:VEVENT
UID:event
LOCATION:301 Uris Hall
DTSTAMP:20210221T33700Z
DTSTART;TZID=America/New_York:20090302T110000
DTEND;TZID=America/New_York:
SUMMARY:How to Think About the Financial Crisis
DESCRIPTION:One of India's most distinguished economists and political c
 ommentators\, Prabhat Patnaik\, and Nobel Prize-winning econom
 ist\, Joseph Stiglitz\, will discuss "How to Think About the F
 inancial Crisis." Jomo Kwame Sundaram\, UN Assistant Secretar
 y General for Economic Affairs\, will chair.
END:VEVENT
END:VCALENDAR