BEGIN:VCALENDAR
VERSION:2.0
PRODID:-//ExpressionEngine Easy iCalendar plugin//NONSGML v1.1.1//EN
BEGIN:VEVENT
UID:event
LOCATION:The Schapiro Center\, Davis Auditorium
DTSTAMP:20210221T33600Z
DTSTART;TZID=America/New_York:20090305T181500
DTEND;TZID=America/New_York:
SUMMARY:The Letter Kills: On Some Implications of 2 Corinthians 3:6
DESCRIPTION:Noted historian and pioneer of microhistory\, Carlo Ginzburg 
 returns to the Heyman Center to discuss "The Letter Kills: O
 n Some Implications of 2 Corinthians 3:6." Matthew Jones\, Co
 lumbia Professor of History\, serves as discussant.
END:VEVENT
END:VCALENDAR