BEGIN:VCALENDAR
VERSION:2.0
PRODID:-//ExpressionEngine Easy iCalendar plugin//NONSGML v1.1.1//EN
BEGIN:VEVENT
UID:event
LOCATION:The Schapiro Center\, Davis Auditorium
DTSTAMP:20210221T33400Z
DTSTART;TZID=America/New_York:20090311T181500
DTEND;TZID=America/New_York:
SUMMARY:Is Marxism Relevant Today?
DESCRIPTION:David Harvey\, Distinguished Professor of Anthropology at the
  Graduate Center of the City University of New York\, Prabhat
  Patnaik\, one of India's most distinguished economists and p
 olitical commentators\, and Duncan Foley\, Professor of Econom
 ics at the New School for Social Research\, will discuss the 
 question "Is Marxism Relevant Today?"
END:VEVENT
END:VCALENDAR