BEGIN:VCALENDAR
VERSION:2.0
PRODID:-//ExpressionEngine Easy iCalendar plugin//NONSGML v1.1.1//EN
BEGIN:VEVENT
UID:event
LOCATION:The Schapiro Center\, Davis Auditorium
DTSTAMP:20210221T33500Z
DTSTART;TZID=America/New_York:20090325T181500
DTEND;TZID=America/New_York:
SUMMARY:The Wm. Theodore de Bary Lecture: “Classics of Japanese Di
 aries”
DESCRIPTION:Donald Keene\, Shincho Professor Emeritus of Japanese Literat
 ure at Columbia University and recipient of Japan's 2008 Ord
 er of Culture\, will discuss "Japanese Authors Today." Author
  Shirley Hazzard\, recipient of the National Book Award and t
 he National Book Critics Circle Award\, will serve as chair.
END:VEVENT
END:VCALENDAR