BEGIN:VCALENDAR
VERSION:2.0
PRODID:-//ExpressionEngine Easy iCalendar plugin//NONSGML v1.1.1//EN
BEGIN:VEVENT
UID:event
LOCATION:\, The Refectory\, Union Theological Seminary\, 3041 W B'way at
  121 St.
DTSTAMP:20210221T33000Z
DTSTART;TZID=America/New_York:20090403T90000
DTEND;TZID=America/New_York:20090404T000000
SUMMARY:Wisdom in Ancient Thought—a two-day conference
DESCRIPTION:A two-day conference on "Wisdom in Ancient Thought."
END:VEVENT
END:VCALENDAR