BEGIN:VCALENDAR
VERSION:2.0
PRODID:-//ExpressionEngine Easy iCalendar plugin//NONSGML v1.1.1//EN
BEGIN:VEVENT
UID:event
LOCATION:International Affairs Building\, Room 1501
DTSTAMP:20210221T33400Z
DTSTART;TZID=America/New_York:20090406T181500
DTEND;TZID=America/New_York:
SUMMARY:The Politics of Recognition
DESCRIPTION:Charles Taylor\, Professor Emeritus of Philosophy at McGill U
 niversity and winner of the 2007 Templeton Prize and the 200
 8 Kyoto Prize\, will take part in a workshop with other profe
 ssors to discuss the topic of "The Politics of Recognition."
END:VEVENT
END:VCALENDAR