BEGIN:VCALENDAR
VERSION:2.0
PRODID:-//ExpressionEngine Easy iCalendar plugin//NONSGML v1.1.1//EN
BEGIN:VEVENT
UID:event
LOCATION:\, South Court Auditorium\, 1st Fl\, Humanities Library\, NY Pub
 lic Library (42 St @ 5 Ave)
DTSTAMP:20210221T32900Z
DTSTART;TZID=America/New_York:20090407T181500
DTEND;TZID=America/New_York:
SUMMARY:Mumbai\, Terror\, and Islamism
DESCRIPTION:This panel discussion will focus on the connections between 
 the recent attacks in India and radical Islamist ideology\, t
 he historic struggle over Kashmir\, and the prospects for fut
 ure relations between India and Pakistan.
END:VEVENT
END:VCALENDAR