BEGIN:VCALENDAR
VERSION:2.0
PRODID:-//ExpressionEngine Easy iCalendar plugin//NONSGML v1.1.1//EN
BEGIN:VEVENT
UID:event
LOCATION:The Heyman Center\, Second Floor Common Room
DTSTAMP:20210221T32600Z
DTSTART;TZID=America/New_York:20090408T181500
DTEND;TZID=America/New_York:
SUMMARY:Poetry Reading by Mark Strand followed by Conversation with 
 Richard Howard
DESCRIPTION:Mark Strand\, Professor of English at Columbia University\, an
 d former U.S. Poet Laureate\, will read selected poems. Richa
 rd Howard Professor at Columbia School of Arts\, Writing Divi
 sion and winner of the Pulitzer Prize\, will serve as discuss
 ant.
END:VEVENT
END:VCALENDAR