BEGIN:VCALENDAR
VERSION:2.0
PRODID:-//ExpressionEngine Easy iCalendar plugin//NONSGML v1.1.1//EN
BEGIN:VEVENT
UID:event
LOCATION:The Heyman Center\, Second Floor Common Room
DTSTAMP:20210221T33800Z
DTSTART;TZID=America/New_York:20090410T100000
DTEND;TZID=America/New_York:
SUMMARY:The Cold War and the Social Sciences: Approaches and Argumen
 ts
DESCRIPTION:A day-long workshop on "The Cold War and the Social Sciences
 : Approaches and Arguments."
END:VEVENT
END:VCALENDAR