BEGIN:VCALENDAR
VERSION:2.0
PRODID:-//ExpressionEngine Easy iCalendar plugin//NONSGML v1.1.1//EN
BEGIN:VEVENT
UID:event
LOCATION:The Schapiro Center\, Davis Auditorium
DTSTAMP:20210221T33600Z
DTSTART;TZID=America/New_York:20090421T181500
DTEND;TZID=America/New_York:
SUMMARY:Plato’s Cunning: Philosophy as Political Strategy
DESCRIPTION:Danielle Allen\, Professor at the Institute for Advanced Stud
 y and a recipient of the Macarthur "genius" Grant\, will give
  the bi-annual Lionel Trilling Seminar. She will speak on "P
 lato's Cunning: Philosophy as Political Strategy." Columbia 
 professors Nadia Urbinati and Katja Vogt will be discussants
 .
END:VEVENT
END:VCALENDAR