BEGIN:VCALENDAR
VERSION:2.0
PRODID:-//ExpressionEngine Easy iCalendar plugin//NONSGML v1.1.1//EN
BEGIN:VEVENT
UID:event
LOCATION:The Schapiro Center\, Davis Auditorium
DTSTAMP:20210221T33400Z
DTSTART;TZID=America/New_York:20090422T181500
DTEND;TZID=America/New_York:
SUMMARY:Baroque Prose
DESCRIPTION:Novelist\, short story writer\, essayist\, critic\, and former p
 hilosophy professor William Gass will speak on "Baroque Pros
 e."
END:VEVENT
END:VCALENDAR