BEGIN:VCALENDAR
VERSION:2.0
PRODID:-//ExpressionEngine Easy iCalendar plugin//NONSGML v1.1.1//EN
BEGIN:VEVENT
UID:event
LOCATION:\, Furman Gallery\, Walter Reade Theater\, Lincoln Center
DTSTAMP:20210221T33200Z
DTSTART;TZID=America/New_York:20090425T90000
DTEND;TZID=America/New_York:20090426T000000
SUMMARY:The Cinema of Satyajit Ray
DESCRIPTION:Various speakers from the Film Division\, Columbia School of 
 the Arts and elsewhere will assemble to discuss the cinema o
 f Satyajit Ray.
END:VEVENT
END:VCALENDAR