BEGIN:VCALENDAR
VERSION:2.0
PRODID:-//ExpressionEngine Easy iCalendar plugin//NONSGML v1.1.1//EN
BEGIN:VEVENT
UID:event
LOCATION:International Affairs Building\, Altschul Auditorium (Room 41
 7)
DTSTAMP:20210221T32800Z
DTSTART;TZID=America/New_York:20090428T200000
DTEND;TZID=America/New_York:
SUMMARY:Poetry and Prose Reading featuring Adrienne Rich and Antjie 
 Krog
DESCRIPTION:Two of the world's most celebrated poets\, Adrienne Rich and 
 Antjie Krog\, will read selected poems.\n\n	 
END:VEVENT
END:VCALENDAR