BEGIN:VCALENDAR
VERSION:2.0
PRODID:-//ExpressionEngine Easy iCalendar plugin//NONSGML v1.1.1//EN
BEGIN:VEVENT
UID:event
LOCATION:The Heyman Center\, Second Floor Common Room
DTSTAMP:20210221T32900Z
DTSTART;TZID=America/New_York:20090429T181500
DTEND;TZID=America/New_York:
SUMMARY:Islam\, Islamisms\, and the West in a Global Context
DESCRIPTION:Marxist literary theorist and political commentator Aijaz Ah
 mad will speak on "Islam\, Islamisms\, and the West in a Globa
 l Context."
END:VEVENT
END:VCALENDAR