BEGIN:VCALENDAR
VERSION:2.0
PRODID:-//ExpressionEngine Easy iCalendar plugin//NONSGML v1.1.1//EN
BEGIN:VEVENT
UID:event
LOCATION:The Schapiro Center\, Davis Auditorium
DTSTAMP:20210221T33400Z
DTSTART;TZID=America/New_York:20090923T181500
DTEND;TZID=America/New_York:
SUMMARY:A Poetry Reading by Rita Dove Followed by an Interview with 
 Marcellus Blount
DESCRIPTION:Rita Dove served as Poet Laureate of the United States and C
 onsultant to the Library of Congress from 1993 to 1995 and a
 s Poet Laureate of the Commonwealth of Virginia from 2004 to
  2006. She has received numerous literary and academic honor
 s\, among them the 1987 Pulitzer Prize in Poetry. She will re
 ad from a selection of her poetry and then discuss her work 
 with Marcellus Blount of the Columbia English Department.
END:VEVENT
END:VCALENDAR