BEGIN:VCALENDAR
VERSION:2.0
PRODID:-//ExpressionEngine Easy iCalendar plugin//NONSGML v1.1.1//EN
BEGIN:VEVENT
UID:event
LOCATION:International Affairs Building\, 1501
DTSTAMP:20210221T33700Z
DTSTART;TZID=America/New_York:20090928T190000
DTEND;TZID=America/New_York:
SUMMARY:Culture\, Identity\, and Politics
DESCRIPTION:Speakers include Charles Taylor\, Professor Emeritus of Philo
 sophy at McGill University and winner of the 2007 Templeton 
 Prize and the 2008 Kyoto Prize\; Alan Montefiore\, Emeritus Fe
 llow\, Balliol College\, Oxford\; and Emmanuel Picavet\, Profess
 or of Political Philosophy\, University of Paris.
END:VEVENT
END:VCALENDAR