BEGIN:VCALENDAR
VERSION:2.0
PRODID:-//ExpressionEngine Easy iCalendar plugin//NONSGML v1.1.1//EN
BEGIN:VEVENT
UID:event
LOCATION:The Schapiro Center\, Davis Auditorium
DTSTAMP:20210221T33400Z
DTSTART;TZID=America/New_York:20091006T181500
DTEND;TZID=America/New_York:
SUMMARY:Who Cares Who Shot Liberty Valance?: The Prosaic and the Her
 oic in John Ford’s Film
DESCRIPTION:Robert Pippin\, Evelyn Stefansson Nef Distinguished Service P
 rofessor\, University of Chicago\, will speak on "Who Cares Wh
 o Shot Liberty Valance?: The Prosaic and the Heroic in John 
 Ford’s Film." Responding will be James Schamus\, President 
 of Focus Features\, and Geoffrey O'Brien\, Editor-in-Chief\, Li
 brary of America.
END:VEVENT
END:VCALENDAR