BEGIN:VCALENDAR
VERSION:2.0
PRODID:-//ExpressionEngine Easy iCalendar plugin//NONSGML v1.1.1//EN
BEGIN:VEVENT
UID:event
LOCATION:The Schapiro Center\, Davis Auditorium
DTSTAMP:20210221T33500Z
DTSTART;TZID=America/New_York:20091013T181500
DTEND;TZID=America/New_York:
SUMMARY:Of Two Minds
DESCRIPTION:Daniel Kahneman is Eugene Higgins Professor of Psychology\, E
 meritus\, Princeton University and winner of the 2002 Nobel P
 rize in Economics. Responding will be Jon Elster\, Robert K. 
 Merton Professor of Social Sciences\,Columbia University\; Geo
 rge Ainslie\, Chief Psychiatrist\, Veterans Affairs Medical Ce
 nter Coatesville\, PA and Clinical Professor of Psychiatry\, T
 emple University\; and Walter Mischel\, Niven Professor of Hum
 ane Letters in Psychology\, Columbia University.
END:VEVENT
END:VCALENDAR