BEGIN:VCALENDAR
VERSION:2.0
PRODID:-//ExpressionEngine Easy iCalendar plugin//NONSGML v1.1.1//EN
BEGIN:VEVENT
UID:event
LOCATION:Presidential Rooms 2 and 3\, Third Floor\, Faculty House
DTSTAMP:20210221T33900Z
DTSTART;TZID=America/New_York:20091021T160000
DTEND;TZID=America/New_York:20091021T203000
SUMMARY:What is Academic Freedom For?
DESCRIPTION:Participants in this conference on academic freedom will inc
 lude Judith Butler\,Maxine Elliot Professor in Rhetoric and C
 omparative Literature\, the University of California\, Berkele
 y\; David Bromwich\,Sterling Professor of English\, Yale Univer
 sity\; Robert Zimmer\, President of the University of Chicato\;
  and Richard Shweder\, William Claude Reavis Distinguished Se
 rvice Professor of Human Development\, University of Chicago.
END:VEVENT
END:VCALENDAR