BEGIN:VCALENDAR
VERSION:2.0
PRODID:-//ExpressionEngine Easy iCalendar plugin//NONSGML v1.1.1//EN
BEGIN:VEVENT
UID:event
LOCATION:The Schapiro Center\, Davis Auditorium
DTSTAMP:20210221T33900Z
DTSTART;TZID=America/New_York:20091022T181500
DTEND;TZID=America/New_York:
SUMMARY:Word and Image in Renaissance Moral Thought
DESCRIPTION:Quentin Skinner\, Barber Beaumont Professor of the Humanities
  at Queen Mary\, University of London\, and England's great in
 tellectual historian of political thought of the Cambridge S
 chool\, will speak on\, “Word and Image in Renaissance Moral
  Thought.”
END:VEVENT
END:VCALENDAR