BEGIN:VCALENDAR
VERSION:2.0
PRODID:-//ExpressionEngine Easy iCalendar plugin//NONSGML v1.1.1//EN
BEGIN:VEVENT
UID:event
LOCATION:The Schapiro Center\, Davis Auditorium
DTSTAMP:20210221T32900Z
DTSTART;TZID=America/New_York:20091105T181500
DTEND;TZID=America/New_York:
SUMMARY:Transforming Psychology
DESCRIPTION:Carol Gilligan is Professor of Humanities and Applied Psycho
 logy at New York University. She is an internationally accla
 imed psychologist and prolific writer. Nancy Chodorow is a f
 eminist sociologist and psychoanalyst\, and is widely conside
 red today's leading psychoanalytic feminist theorist. Togeth
 er\, Professors Gilligan and Chodorow will speak on "Transfor
 ming Psychology."
END:VEVENT
END:VCALENDAR