BEGIN:VCALENDAR
VERSION:2.0
PRODID:-//ExpressionEngine Easy iCalendar plugin//NONSGML v1.1.1//EN
BEGIN:VEVENT
UID:event
LOCATION:The Schapiro Center\, Davis Auditorium
DTSTAMP:20210221T33600Z
DTSTART;TZID=America/New_York:20091110T181500
DTEND;TZID=America/New_York:
SUMMARY:Can Human Action Be Explained?
DESCRIPTION:Charles Taylor returns to speak on the question\, "Can Human 
 Action Be Explained?".
END:VEVENT
END:VCALENDAR