BEGIN:VCALENDAR
VERSION:2.0
PRODID:-//ExpressionEngine Easy iCalendar plugin//NONSGML v1.1.1//EN
BEGIN:VEVENT
UID:event
LOCATION:Deutsches Haus\, 420 West 116th Street
DTSTAMP:20210221T33700Z
DTSTART;TZID=America/New_York:20091113T160000
DTEND;TZID=America/New_York:20091113T173000
SUMMARY:Dutch Cities\, Radical Enlightenment and the “General Revol
 ution” (1776-1790).
DESCRIPTION:Jonathan Israel\, Professor of Modern European History\, Insti
 tute for Advanced Study\, will speak on "Dutch Cities\, Radica
 l Enlightenment and the 'General Revolution' (1776-1790)".
END:VEVENT
END:VCALENDAR