BEGIN:VCALENDAR
VERSION:2.0
PRODID:-//ExpressionEngine Easy iCalendar plugin//NONSGML v1.1.1//EN
BEGIN:VEVENT
UID:event
LOCATION:The Heyman Center\, Second Floor Common Room
DTSTAMP:20210221T33200Z
DTSTART;TZID=America/New_York:20091116T181500
DTEND;TZID=America/New_York:
SUMMARY:A Poetry Reading by Robert Hass Followed by an Interview wit
 h Saskia Hamilton
DESCRIPTION:Pulitzer Prize-winning poet Robert Hass served as Poet Laure
 ate of the United States from 1995 to 1997. He will read a s
 election of poems\, to be followed by an interview with Saski
 a Hamilton of the Barnard College English Department.
END:VEVENT
END:VCALENDAR