BEGIN:VCALENDAR
VERSION:2.0
PRODID:-//ExpressionEngine Easy iCalendar plugin//NONSGML v1.1.1//EN
BEGIN:VEVENT
UID:event
LOCATION:The Schapiro Center\, Davis Auditorium
DTSTAMP:20210221T32900Z
DTSTART;TZID=America/New_York:20091119T181500
DTEND;TZID=America/New_York:
SUMMARY:What Is Happening in History Now?
DESCRIPTION:Caroline Bynum\, Professor of Western European Middle Ages at
  the Institute for Advanced Study will speak on "What Is Hap
 pening in History Now?". Discussants include Eric Foner\, DeW
 itt Clinton Professor of History\, Columbia University\; Alan 
 Brinkley\, Allan Nevins Professor of History\, Columbia Univer
 sity\; Victoria de Grazia\, Moore Collegiate Professor of Hist
 ory\, Columbia University\; and Pamela Smith\, Professor of His
 tory\, Columbia University.
END:VEVENT
END:VCALENDAR