BEGIN:VCALENDAR
VERSION:2.0
PRODID:-//ExpressionEngine Easy iCalendar plugin//NONSGML v1.1.1//EN
BEGIN:VEVENT
UID:event
LOCATION:The Heyman Center\, Second Floor Common Room
DTSTAMP:20210221T32600Z
DTSTART;TZID=America/New_York:20091120T103000
DTEND;TZID=America/New_York:20091120T170000
SUMMARY:Freedom\, Law\, and Academic Inquiry—a day-long conference
DESCRIPTION:This day long conference will include\, among others\, Stanley
  Fish\, Davidson-Kahn Distinguished University Professor of H
 umanities and Professor of Law\, Florida International Univer
 sity\; Catharine Stimpson\, University Professor\, Professor of
  English\, and Dean of the Graduate School of Arts and Scienc
 e\, New York University\; and Bruce Robbins\, Old Dominion Foun
 dation Professor in the Humanities\, Columbia University.
END:VEVENT
END:VCALENDAR