BEGIN:VCALENDAR
VERSION:2.0
PRODID:-//ExpressionEngine Easy iCalendar plugin//NONSGML v1.1.1//EN
BEGIN:VEVENT
UID:event
LOCATION:International Affairs Building\, Altschlul Auditorium\, 417 In
 ternational Affairs Building
DTSTAMP:20210221T33500Z
DTSTART;TZID=America/New_York:20091203T200000
DTEND;TZID=America/New_York:
SUMMARY:The Edward W. Said Memorial Lecture: “The Unipolar Moment 
 and the Culture of Imperialism”
DESCRIPTION:Noam Chomsky\, Institute Professor and professor emeritus at 
 Massachusetts Institute of Technology\, returns to the Heyman
  Center to deliver the 5th Annual Edward Said Memorial Lectu
 re.
END:VEVENT
END:VCALENDAR