BEGIN:VCALENDAR
VERSION:2.0
PRODID:-//ExpressionEngine Easy iCalendar plugin//NONSGML v1.1.1//EN
BEGIN:VEVENT
UID:event
LOCATION:The Heyman Center\, Second Floor Common Room
DTSTAMP:20210221T33200Z
DTSTART;TZID=America/New_York:20091208T181500
DTEND;TZID=America/New_York:
SUMMARY:American Exceptionalism and the Question of Style
DESCRIPTION:Ezra Tawil\, English and Comparative Literature\, Columbia Uni
 versity\, will speak on "American Exceptionalism and the Ques
 tion of Style." His Columbia colleagues Andrew Delbanco and 
 Ross Posnock will serve as commentators.
END:VEVENT
END:VCALENDAR