BEGIN:VCALENDAR
VERSION:2.0
PRODID:-//ExpressionEngine Easy iCalendar plugin//NONSGML v1.1.1//EN
BEGIN:VEVENT
UID:event
LOCATION:International Affairs Building\, Altschlul Auditorium\, 417 In
 ternational Affairs Building
DTSTAMP:20210221T33400Z
DTSTART;TZID=America/New_York:20091211T160000
DTEND;TZID=America/New_York:
SUMMARY:Social Choice and Individual Values
DESCRIPTION:Amartya Sen\, Thomas W. Lamont University Professor and Profe
 ssor of Economics and Philosophy\, Harvard University\, is the
  recipient of the 1998 Nobel Prize in Economics\, and will sp
 eak on "Social Choice and Individual Values." Kenneth Arrow\,
  recipient of the 1972 Nobel Prize in Economics\, and Eric Ma
 skin\, recipient of the 2007 Nobel Prize in Economics\, will s
 erve as Respondents. Joseph Stiglitz\, recipient of the 2001 
 Nobel Prize in Economics\, will chair.
END:VEVENT
END:VCALENDAR