BEGIN:VCALENDAR
VERSION:2.0
PRODID:-//ExpressionEngine Easy iCalendar plugin//NONSGML v1.1.1//EN
BEGIN:VEVENT
UID:event
LOCATION:The Heyman Center\, Second Floor Common Room
DTSTAMP:20210221T33800Z
DTSTART;TZID=America/New_York:20080922T181500
DTEND;TZID=America/New_York:
SUMMARY:What Was Democracy in America?
DESCRIPTION:The Heyman Center has planned a series of events on 'What Wa
 s Democracy?' with a view to studying the evolution of democ
 ratic ideas and culture.
END:VEVENT
END:VCALENDAR