BEGIN:VCALENDAR
VERSION:2.0
PRODID:-//ExpressionEngine Easy iCalendar plugin//NONSGML v1.1.1//EN
BEGIN:VEVENT
UID:event
LOCATION:Miller Theatre
DTSTAMP:20210221T33100Z
DTSTART;TZID=America/New_York:20080928T190000
DTEND;TZID=America/New_York:
SUMMARY:The Fourth Annual Edward W. Said Memorial Lecture: A Reading
  and Recital
DESCRIPTION:The Arabic poet\, Adonis\, will read his poems to remember Edw
 ard Said on the fifth anniversary of his death.
END:VEVENT
END:VCALENDAR