BEGIN:VCALENDAR
VERSION:2.0
PRODID:-//ExpressionEngine Easy iCalendar plugin//NONSGML v1.1.1//EN
BEGIN:VEVENT
UID:event
LOCATION:The Schapiro Center\, Davis Auditorium
DTSTAMP:20210221T33600Z
DTSTART;TZID=America/New_York:20081001T181500
DTEND;TZID=America/New_York:
SUMMARY:Peculiar\, Bracing Cosmopolitanisms among the Colonized in th
 e Twilight of Empire
DESCRIPTION:Benedict Anderson\, Aaron L. Binenkorb Professor Emeritus of 
 International Studies\, Government\, and Asian Studies at Corn
 ell University\, is the author of Imagined Communities and a 
 fine historian and theorist of nationalism. He will speak on
  the subject of cosmoplitanism.
END:VEVENT
END:VCALENDAR