BEGIN:VCALENDAR
VERSION:2.0
PRODID:-//ExpressionEngine Easy iCalendar plugin//NONSGML v1.1.1//EN
BEGIN:VEVENT
UID:event
LOCATION:The Schapiro Center\, Davis Auditorium
DTSTAMP:20210221T32900Z
DTSTART;TZID=America/New_York:20081002T181500
DTEND;TZID=America/New_York:
SUMMARY:Screening of “Terlena: The Breaking of a Nation” and Dis
 cussion
DESCRIPTION:Writer\, journalist\, political analyst\, playwright\, and filmm
 aker Andre Vltchek wrote and produced the documentary Terlen
 a: The Breaking of a Nation\, a documentary about the destruc
 tion of Indonesian intellectuals after the 1965 US-backed mi
 litary coup in Indonesia.
END:VEVENT
END:VCALENDAR