BEGIN:VCALENDAR
VERSION:2.0
PRODID:-//ExpressionEngine Easy iCalendar plugin//NONSGML v1.1.1//EN
BEGIN:VEVENT
UID:event
LOCATION:301 Philosophy Hall
DTSTAMP:20210221T33800Z
DTSTART;TZID=America/New_York:20081003T133000
DTEND;TZID=America/New_York:20081003T190000
SUMMARY:Lionel Trilling and His Legacy—a day-long conference
DESCRIPTION:This Conference will feature Louis Menand\, Jonathan Arac\, St
 even Marcus\, Geraldine Murphy\, John Rosenberg\, George Stade\,
  Fritz Stern\, and Michael Wood.
END:VEVENT
END:VCALENDAR