BEGIN:VCALENDAR
VERSION:2.0
PRODID:-//ExpressionEngine Easy iCalendar plugin//NONSGML v1.1.1//EN
BEGIN:VEVENT
UID:event
LOCATION:International Affairs Building\, Altschlul Auditorium\, 417 In
 ternational Affairs Building
DTSTAMP:20210221T33800Z
DTSTART;TZID=America/New_York:20081007T181500
DTEND;TZID=America/New_York:
SUMMARY:Reasons of Justice
DESCRIPTION:Economist and philosopher Amartya Sen won the 1998 Nobel Pri
 ze in Economics. He will speak on "Reasons of Justice."
END:VEVENT
END:VCALENDAR