BEGIN:VCALENDAR
VERSION:2.0
PRODID:-//ExpressionEngine Easy iCalendar plugin//NONSGML v1.1.1//EN
BEGIN:VEVENT
UID:event
LOCATION:The Heyman Center\, Second Floor Common Room
DTSTAMP:20210221T33800Z
DTSTART;TZID=America/New_York:20081008T181500
DTEND;TZID=America/New_York:
SUMMARY:Who Do You Think You Are?: Feminist Memoirs
DESCRIPTION:Lynne Segal\, Anniversary Professor of Psychology & Gender St
 udies at Birkbeck\, University of London\, and one of the most
  interesting feminist theorists in the world\, will speak on 
 feminist memoirs.
END:VEVENT
END:VCALENDAR