BEGIN:VCALENDAR
VERSION:2.0
PRODID:-//ExpressionEngine Easy iCalendar plugin//NONSGML v1.1.1//EN
BEGIN:VEVENT
UID:event
LOCATION:The Heyman Center\, Second Floor Common Room
DTSTAMP:20210221T33600Z
DTSTART;TZID=America/New_York:20081016T181500
DTEND;TZID=America/New_York:
SUMMARY:Manners and Their Social Implications
DESCRIPTION:One of England's greatest historians\, and author of Religion
  and the Decline of Magic\, Keith Thomas will speak on the to
 pic "Manners and Their Social Implications."
END:VEVENT
END:VCALENDAR