BEGIN:VCALENDAR
VERSION:2.0
PRODID:-//ExpressionEngine Easy iCalendar plugin//NONSGML v1.1.1//EN
BEGIN:VEVENT
UID:event
LOCATION:The Schapiro Center\, Davis Auditorium
DTSTAMP:20210221T32700Z
DTSTART;TZID=America/New_York:20081020T181500
DTEND;TZID=America/New_York:
SUMMARY:The Virtues of Mendacity: On Lying in Politics
DESCRIPTION:Martin Jay\, Sidney Hellman Ehrman Professor of History at Th
 e University of California\, Berkeley\, will deliver the Fall 
 2008 Trilling Lecture.
END:VEVENT
END:VCALENDAR