BEGIN:VCALENDAR
VERSION:2.0
PRODID:-//ExpressionEngine Easy iCalendar plugin//NONSGML v1.1.1//EN
BEGIN:VEVENT
UID:event
LOCATION:The Heyman Center\, Second Floor Common Room
DTSTAMP:20210221T32700Z
DTSTART;TZID=America/New_York:20081024T163000
DTEND;TZID=America/New_York:20081025T180000
SUMMARY:The Function and Fate of Teleology in the Enlightenment—a 
 two-day conference
DESCRIPTION:It is the goal of this conference to study the role of teleo
 logical figures of thought and of the critique of teleology 
 in the study of nature\, aesthetics\, political philosophy\, an
 thropology\, psychology and history.
END:VEVENT
END:VCALENDAR