BEGIN:VCALENDAR
VERSION:2.0
PRODID:-//ExpressionEngine Easy iCalendar plugin//NONSGML v1.1.1//EN
BEGIN:VEVENT
UID:event
LOCATION:The Heyman Center\, Second Floor Common Room
DTSTAMP:20210221T33000Z
DTSTART;TZID=America/New_York:20081027T181500
DTEND;TZID=America/New_York:
SUMMARY:Spinoza in His Time and Ours
DESCRIPTION:Susan James\, Professor of Philosophy at Birkbeck University 
 of London and editor and author of numerous publications\, an
 d Jonathan Israel\, Modern European History Professor at the 
 Institute for Advanced Study and author of numerous books\, i
 ncluding Enlightenment Contested\, will assess the continuing
  relevance of Spinoza and how his political thought might st
 ill speak to us today.
END:VEVENT
END:VCALENDAR