BEGIN:VCALENDAR
VERSION:2.0
PRODID:-//ExpressionEngine Easy iCalendar plugin//NONSGML v1.1.1//EN
BEGIN:VEVENT
UID:event
LOCATION:International Affairs Building\, Altschlul Auditorium\, 417 In
 ternational Affairs Building
DTSTAMP:20210221T33100Z
DTSTART;TZID=America/New_York:20081105T200000
DTEND;TZID=America/New_York:
SUMMARY:An Election Post-Mortem
DESCRIPTION:Hendrik Hertzberg\, Senior Editor and Staff Writer for The Ne
 w Yorker magazine\, Katha Pollitt\, columnist for The Nation\, 
 and Alan Brinkley\, Columbia University historian\, will cond
 uct a post mortem on the previous day's presidential electio
 n. This event is expected to be a full house\, so please come
  early to ensure a seat.
END:VEVENT
END:VCALENDAR