BEGIN:VCALENDAR
VERSION:2.0
PRODID:-//ExpressionEngine Easy iCalendar plugin//NONSGML v1.1.1//EN
BEGIN:VEVENT
UID:event
LOCATION:The Kraft Center\, Rennert Auditorium
DTSTAMP:20210221T33600Z
DTSTART;TZID=America/New_York:20081111T181500
DTEND;TZID=America/New_York:
SUMMARY:Nobel Laureate Orhan Pamuk in Conversation with Andreas Huys
 sen
DESCRIPTION:Nobel Laureate Orhan Pamuk speaks with Andreas Huyssen\, Vill
 ard Professor of German and Comparative Literature\, Columbia
  University.
END:VEVENT
END:VCALENDAR