BEGIN:VCALENDAR
VERSION:2.0
PRODID:-//ExpressionEngine Easy iCalendar plugin//NONSGML v1.1.1//EN
BEGIN:VEVENT
UID:event
LOCATION:The Schapiro Center\, Davis Auditorium
DTSTAMP:20210221T33600Z
DTSTART;TZID=America/New_York:20081118T181500
DTEND;TZID=America/New_York:
SUMMARY:A Genealogy of Liberty
DESCRIPTION:Quentin Skinner\, Regius Professor of Modern History at Cambr
 idge University\, and England's great intellectual historian 
 of political thought of the Cambridge School\, will follow up
  on previous talks given by members of that school at the He
 yman Center: J.G.A pocock and John Dunn. Skinner will explor
 e changing notions of freedom in the history of politics.
END:VEVENT
END:VCALENDAR