BEGIN:VCALENDAR
VERSION:2.0
PRODID:-//ExpressionEngine Easy iCalendar plugin//NONSGML v1.1.1//EN
BEGIN:VEVENT
UID:event
LOCATION:International Affairs Building\, Room 1501
DTSTAMP:20210221T33500Z
DTSTART;TZID=America/New_York:20081119T181500
DTEND;TZID=America/New_York:
SUMMARY:The Secular Age in a Global Context
DESCRIPTION:The philosopher Charles Taylor\, winner of both the Templeton
  Prize and the Kyoto Prize\, will speak about his new and con
 troversial book\, A Secular Age in two lectures. The topic fo
 r this evening will be "The Secular Age in a Global Context.
 "
END:VEVENT
END:VCALENDAR