BEGIN:VCALENDAR
VERSION:2.0
PRODID:-//ExpressionEngine Easy iCalendar plugin//NONSGML v1.1.1//EN
BEGIN:VEVENT
UID:event
LOCATION:International Affairs Building\, Altschlul Auditorium\, 417 In
 ternational Affairs Building
DTSTAMP:20210221T33200Z
DTSTART;TZID=America/New_York:20081201T200000
DTEND;TZID=America/New_York:
SUMMARY:%@#$**?!: From a Ten-Cent Plague to a Ninth Art in 90 Minute
 s
DESCRIPTION:Art Spiegelman is back. The brilliant cartoonist and Pulitze
 r Prize-winning author of the graphic novel Maus will speak 
 in his engaging\, brilliant way about comics with David Hajdu
 \, the author of the recent much-praised book on comics\, The 
 Ten-Cent Plague as well as an earlier book on Bob Dylan\, Joa
 n Baez and their circle.
END:VEVENT
END:VCALENDAR