BEGIN:VCALENDAR
VERSION:2.0
PRODID:-//ExpressionEngine Easy iCalendar plugin//NONSGML v1.1.1//EN
BEGIN:VEVENT
UID:event
LOCATION:The Heyman Center\, Second Floor Common Room
DTSTAMP:20210221T33800Z
DTSTART;TZID=America/New_York:20120912T181500
DTEND;TZID=America/New_York:
SUMMARY:The Vile and the Noble: On Classifications in the French Win
 e World
DESCRIPTION:Marion Fourcade will discuss the concept of terroir—a Fren
 ch expression that captures the correspondence between the p
 hysical and human features of a place\, and the character of 
 its agricultural products.
END:VEVENT
END:VCALENDAR