BEGIN:VCALENDAR
VERSION:2.0
PRODID:-//ExpressionEngine Easy iCalendar plugin//NONSGML v1.1.1//EN
BEGIN:VEVENT
UID:event
LOCATION:Please RSVP for location details.
DTSTAMP:20210221T33700Z
DTSTART;TZID=America/New_York:20120909T90000
DTEND;TZID=America/New_York:20120910T170000
SUMMARY:Jewish Internationalism: Collective Politics in the 19th and
  20th Centuries
DESCRIPTION:This conference on Jewish Internationalism is hosted by the 
 Institute for Israel and Jewish Studies and the Department o
 f History.
END:VEVENT
END:VCALENDAR