BEGIN:VCALENDAR
VERSION:2.0
PRODID:-//ExpressionEngine Easy iCalendar plugin//NONSGML v1.1.1//EN
BEGIN:VEVENT
UID:event
LOCATION:International Affairs Building\, Altschul Auditorium
DTSTAMP:20210221T33800Z
DTSTART;TZID=America/New_York:20120919T180000
DTEND;TZID=America/New_York:
SUMMARY:Jacques Rancière on “Aisthesis: Scenes from the Aesthetic
  Regime of Art”
DESCRIPTION:Please note: Registration is now full\n\nJacques Rancière wil
 l deliver the Eugene J. Sheffer Distingished Lecture\, follow
 ed by a roundtable discussion with Phil Watts (French\, Colu
 mbia)\, Patricia Dailey (English\, Columbia)\, and James Swenso
 n (French\, Rutgers).
END:VEVENT
END:VCALENDAR